BEGIN:VCALENDAR
VERSION:2.0
PRODID:-//Iglesia Oasis del Espíritu Santo - ECPv6.9.0//NONSGML v1.0//EN
CALSCALE:GREGORIAN
METHOD:PUBLISH
X-ORIGINAL-URL:https://iglesiaoasisdelespiritusanto.cc
X-WR-CALDESC:Eventos para Iglesia Oasis del Espíritu Santo
REFRESH-INTERVAL;VALUE=DURATION:PT1H
X-Robots-Tag:noindex
X-PUBLISHED-TTL:PT1H
BEGIN:VTIMEZONE
TZID:UTC
BEGIN:STANDARD
TZOFFSETFROM:+0000
TZOFFSETTO:+0000
TZNAME:UTC
DTSTART:20260101T000000
END:STANDARD
END:VTIMEZONE
BEGIN:VEVENT
DTSTART;TZID=UTC:20260215T170000
DTEND;TZID=UTC:20260215T190000
DTSTAMP:20260423T215439
CREATED:20260205T020700Z
LAST-MODIFIED:20260205T020700Z
UID:1048-1771174800-1771182000@iglesiaoasisdelespiritusanto.cc
SUMMARY:Culto de Damas Oasis del Espíritu Santo
DESCRIPTION:
URL:https://iglesiaoasisdelespiritusanto.cc/evento/culto-de-damas-oasis-del-espiritu-santo/
ATTACH;FMTTYPE=image/png:https://iglesiaoasisdelespiritusanto.cc/wp-content/uploads/2026/02/Buscando.png
END:VEVENT
BEGIN:VEVENT
DTSTART;TZID=UTC:20260220T210000
DTEND;TZID=UTC:20260221T000000
DTSTAMP:20260423T215439
CREATED:20260205T020914Z
LAST-MODIFIED:20260205T020914Z
UID:1051-1771621200-1771632000@iglesiaoasisdelespiritusanto.cc
SUMMARY:Vigilia: Ministerio de Caballeros Oasis Del Espíritu Santo
DESCRIPTION:
URL:https://iglesiaoasisdelespiritusanto.cc/evento/vigilia-ministerio-de-caballeros-oasis-del-espiritu-santo/
ATTACH;FMTTYPE=image/png:https://iglesiaoasisdelespiritusanto.cc/wp-content/uploads/2026/02/SALVACION.png
END:VEVENT
END:VCALENDAR